BEGIN:VCALENDAR
VERSION:2.0
PRODID:-//St. Andrew&#039;s Lodge #560 - ECPv6.15.20//NONSGML v1.0//EN
CALSCALE:GREGORIAN
METHOD:PUBLISH
X-WR-CALNAME:St. Andrew&#039;s Lodge #560
X-ORIGINAL-URL:https://standrews560.com
X-WR-CALDESC:Events for St. Andrew&#039;s Lodge #560
REFRESH-INTERVAL;VALUE=DURATION:PT1H
X-Robots-Tag:noindex
X-PUBLISHED-TTL:PT1H
BEGIN:VTIMEZONE
TZID:America/Toronto
BEGIN:DAYLIGHT
TZOFFSETFROM:-0500
TZOFFSETTO:-0400
TZNAME:EDT
DTSTART:20230312T070000
END:DAYLIGHT
BEGIN:STANDARD
TZOFFSETFROM:-0400
TZOFFSETTO:-0500
TZNAME:EST
DTSTART:20231105T060000
END:STANDARD
BEGIN:DAYLIGHT
TZOFFSETFROM:-0500
TZOFFSETTO:-0400
TZNAME:EDT
DTSTART:20240310T070000
END:DAYLIGHT
BEGIN:STANDARD
TZOFFSETFROM:-0400
TZOFFSETTO:-0500
TZNAME:EST
DTSTART:20241103T060000
END:STANDARD
BEGIN:DAYLIGHT
TZOFFSETFROM:-0500
TZOFFSETTO:-0400
TZNAME:EDT
DTSTART:20250309T070000
END:DAYLIGHT
BEGIN:STANDARD
TZOFFSETFROM:-0400
TZOFFSETTO:-0500
TZNAME:EST
DTSTART:20251102T060000
END:STANDARD
BEGIN:DAYLIGHT
TZOFFSETFROM:-0500
TZOFFSETTO:-0400
TZNAME:EDT
DTSTART:20260308T070000
END:DAYLIGHT
BEGIN:STANDARD
TZOFFSETFROM:-0400
TZOFFSETTO:-0500
TZNAME:EST
DTSTART:20261101T060000
END:STANDARD
END:VTIMEZONE
BEGIN:VEVENT
DTSTART;TZID=America/Toronto:20250501T193000
DTEND;TZID=America/Toronto:20250501T213000
DTSTAMP:20260421T174556
CREATED:20240908T221950Z
LAST-MODIFIED:20240909T013739Z
UID:2087-1746127800-1746135000@standrews560.com
SUMMARY:May Regular Meeting: Elections and "Guiding Lights" Appreciation Night
DESCRIPTION:We conduct our elections and with the theme “Guiding lights” we have an appreciation night for celebrating the contributions of our living past masters and to present an award to one of them in recognition of his legacy.
URL:https://standrews560.com/event/2025-may-regular-meeting/
LOCATION:Ottawa Masonic Centre\, 2140 Walkley Road\, Ottawa\, ON\, K1G 3V3\, Canada
CATEGORIES:Lodge,Open,Private,Tyled
END:VEVENT
BEGIN:VEVENT
DTSTART;TZID=America/Toronto:20250405T180000
DTEND;TZID=America/Toronto:20250405T220000
DTSTAMP:20260421T174556
CREATED:20240903T041401Z
LAST-MODIFIED:20250208T192948Z
UID:2062-1743876000-1743890400@standrews560.com
SUMMARY:A Tribute to  Service and Leadership
DESCRIPTION:Celebrating Legacy\, Dedication\, and Brotherhood\nTyled Meeting (2:00 pm – 3:30 pm):\nA private\, tyled meeting reserved for Masons only. During this session\, M.W. Bro. Jamie Ireland\, Grand Master\, will present a special 60-Year Service Pin in recognition of R.W. Bro. John Forster’s distinguished decades of commitment to the Craft. \nSocial (5:00 pm – 6:00 pm):\nEnjoy an hour of mingling and fellowship before the formal program begins. The bar will be open\, offering an opportunity to connect and share conversations in a relaxed setting. \nReception & Dinner (6:00 pm):\nThe formal reception begins promptly at 6:00 pm\, honoring the life and contributions of R.W. Bro. John Forster. This main event will feature a special tribute ceremony followed by a formal dinner\, providing time for reflection\, fellowship\, and celebration of his remarkable legacy. \nYour presence at this special event will be a fitting tribute to a respected brother who dedicated so much to our fraternity. \nCome back for more details \n  \n \nNote: At the time of purchase\, you have the option to make an adjustable contribution to Zeffy. By contributing\, you support their mission of providing free fundraising solutions to thousands of nonprofits. Zeffy is a 100% free Canadian platform that we use. The suggested contribution amount is just a suggestion; you can adjust it or opt out by selecting “custom” and entering $0.00. \n 
URL:https://standrews560.com/event/2025-april-special-meeting/
LOCATION:Ottawa Masonic Centre\, 2140 Walkley Road\, Ottawa\, ON\, K1G 3V3\, Canada
CATEGORIES:Lodge,Open,Private,Tyled
ATTACH;FMTTYPE=image/jpeg:https://standrews560.com/wp-content/uploads/2024/09/Tribute-to-John-Forster-Updated.jpeg
END:VEVENT
BEGIN:VEVENT
DTSTART;TZID=America/Toronto:20250403T193000
DTEND;TZID=America/Toronto:20250403T213000
DTSTAMP:20260421T174556
CREATED:20240908T221435Z
LAST-MODIFIED:20240909T013808Z
UID:2085-1743708600-1743715800@standrews560.com
SUMMARY:April Regular Meeting: This is a Lodge of Discussion
DESCRIPTION:Program TBD
URL:https://standrews560.com/event/2025-april-regular-meeting/
LOCATION:Ottawa Masonic Centre\, 2140 Walkley Road\, Ottawa\, ON\, K1G 3V3\, Canada
CATEGORIES:Lodge,Open,Private,Tyled
END:VEVENT
BEGIN:VEVENT
DTSTART;TZID=America/Toronto:20250306T193000
DTEND;TZID=America/Toronto:20250306T213000
DTSTAMP:20260421T174556
CREATED:20240908T221215Z
LAST-MODIFIED:20240908T222338Z
UID:2060-1741289400-1741296600@standrews560.com
SUMMARY:March Regular Meeting: Thursday Lodges Summit in Ottawa District 1
DESCRIPTION:Receiving the traveling gavel from Lodge of Fidelity No. 561 and also the Lodges meeting on Thursday in Ottawa District 1 – Doric No. 58\, Mississippi No. 147 and Carleton No. 465.
URL:https://standrews560.com/event/2025-march-regular-meeting/
LOCATION:Ottawa Masonic Centre\, 2140 Walkley Road\, Ottawa\, ON\, K1G 3V3\, Canada
CATEGORIES:Lodge,Open,Private,Tyled
END:VEVENT
BEGIN:VEVENT
DTSTART;TZID=America/Toronto:20250206T193000
DTEND;TZID=America/Toronto:20250206T220000
DTSTAMP:20260421T174556
CREATED:20240902T023747Z
LAST-MODIFIED:20250119T045253Z
UID:2047-1738870200-1738879200@standrews560.com
SUMMARY:February Regular Meeting: Burns Night Supper
DESCRIPTION:Enjoy a traditional Burns Supper featuring haggis\, neeps\, and tatties\, while immersing yourself in Scottish culture. The evening will also include a recitation of Robert Burns’ poetry and songs\, bringing a touch of Scottish tradition to the event.
URL:https://standrews560.com/event/2025-february-regular-meeting/
LOCATION:Ottawa Masonic Centre\, 2140 Walkley Road\, Ottawa\, ON\, K1G 3V3\, Canada
CATEGORIES:Lodge,Open,Private,Tyled
ATTACH;FMTTYPE=image/jpeg:https://standrews560.com/wp-content/uploads/2024/09/20250206.jpeg
END:VEVENT
BEGIN:VEVENT
DTSTART;TZID=America/Toronto:20241107T190000
DTEND;TZID=America/Toronto:20241107T213000
DTSTAMP:20260421T174556
CREATED:20240511T025519Z
LAST-MODIFIED:20241005T154520Z
UID:1927-1731006000-1731015000@standrews560.com
SUMMARY:November Regular Meeting: Empty Chair Ceremony
DESCRIPTION:Join us for a solemn and meaningful Empty Chair Ceremony followed by an evening of fellowship and enlightenment! \n Empty Chair Ceremony: The evening will begin with a poignant Empty Chair Ceremony\, a tribute to our fallen brethren who are no longer with us. \n Work of the Night (1st part): At 7:30pm\, the first part of our lodge’s work will commence. This includes: \n\nOpening ceremonies\nConducting essential lodge business\nClosing ceremonies\nA brief recess for 15 minutes\n\n Open Chair Ceremony (2nd part): At 8:15pm\, we will host the Open Chair Ceremony\, featuring Master of Ceremonies W.Bro. S. Young. Guest speakers from the Royal Canadian Legion and Bro. L. Z. (Colonel from the Canadian Armed Forces) will honor us with their presence and insights. \n Festive Board: Concluding the evening at 9:00pm\, join us for a delightful themed meal featuring Italian cuisine. During dinner\, Brother [TBD] will deliver an enlightening talk on the History of the Victoria Cross. Plus\, there will be an opportunity for members to share brief commercials. \nDon’t miss this special event as we honor our fallen brethren and celebrate camaraderie and brotherhood in Freemasonry. Reserve your seat today!
URL:https://standrews560.com/event/2024-november-regular-meeting/
LOCATION:Ottawa Masonic Centre\, 2140 Walkley Road\, Ottawa\, ON\, K1G 3V3\, Canada
CATEGORIES:Lodge,Open,Private,Tyled
ATTACH;FMTTYPE=image/png:https://standrews560.com/wp-content/uploads/2024/05/20241107v2.png
END:VEVENT
END:VCALENDAR