BEGIN:VCALENDAR
VERSION:2.0
PRODID:-//St. Andrew&#039;s Lodge #560 - ECPv6.15.20//NONSGML v1.0//EN
CALSCALE:GREGORIAN
METHOD:PUBLISH
X-WR-CALNAME:St. Andrew&#039;s Lodge #560
X-ORIGINAL-URL:https://standrews560.com
X-WR-CALDESC:Events for St. Andrew&#039;s Lodge #560
REFRESH-INTERVAL;VALUE=DURATION:PT1H
X-Robots-Tag:noindex
X-PUBLISHED-TTL:PT1H
BEGIN:VTIMEZONE
TZID:America/Toronto
BEGIN:DAYLIGHT
TZOFFSETFROM:-0500
TZOFFSETTO:-0400
TZNAME:EDT
DTSTART:20180311T070000
END:DAYLIGHT
BEGIN:STANDARD
TZOFFSETFROM:-0400
TZOFFSETTO:-0500
TZNAME:EST
DTSTART:20181104T060000
END:STANDARD
BEGIN:DAYLIGHT
TZOFFSETFROM:-0500
TZOFFSETTO:-0400
TZNAME:EDT
DTSTART:20190310T070000
END:DAYLIGHT
BEGIN:STANDARD
TZOFFSETFROM:-0400
TZOFFSETTO:-0500
TZNAME:EST
DTSTART:20191103T060000
END:STANDARD
BEGIN:DAYLIGHT
TZOFFSETFROM:-0500
TZOFFSETTO:-0400
TZNAME:EDT
DTSTART:20200308T070000
END:DAYLIGHT
BEGIN:STANDARD
TZOFFSETFROM:-0400
TZOFFSETTO:-0500
TZNAME:EST
DTSTART:20201101T060000
END:STANDARD
END:VTIMEZONE
BEGIN:VEVENT
DTSTART;TZID=America/Toronto:20190716T080000
DTEND;TZID=America/Toronto:20190716T170000
DTSTAMP:20260422T101338
CREATED:20190524T030836Z
LAST-MODIFIED:20190524T031322Z
UID:544-1563264000-1563296400@standrews560.com
SUMMARY:Annual Communication
DESCRIPTION:TUESDAY\, JULY 16th The Board of General Purposes will meet at 10:00 a.m. in the Ballroom\, Fairmont Royal York Hotel.
URL:https://standrews560.com/event/annual-communication-2/
LOCATION:Fairmont Royal York Hotel\, 100 Front St W\, Toronto\, ON\, M5J1E3\, Canada
CATEGORIES:Grand Lodge,Private
END:VEVENT
BEGIN:VEVENT
DTSTART;TZID=America/Toronto:20190715T080000
DTEND;TZID=America/Toronto:20190715T170000
DTSTAMP:20260422T101338
CREATED:20190524T030555Z
LAST-MODIFIED:20190524T031108Z
UID:538-1563177600-1563210000@standrews560.com
SUMMARY:Annual Communication
DESCRIPTION:MONDAY\, JULY 15th The Board of General Purposes will meet in the Ballroom\, on the Convention floor of the Fairmont Royal York Hotel\, at 9:00 a.m. and 1:30 p.m. R.W. Bro. David J. Cameron\, Deputy Grand Master and President of the Board\, will preside.
URL:https://standrews560.com/event/annual-communication/
LOCATION:Fairmont Royal York Hotel\, 100 Front St W\, Toronto\, ON\, M5J1E3\, Canada
CATEGORIES:Grand Lodge,Private
END:VEVENT
BEGIN:VEVENT
DTSTART;TZID=America/Toronto:20190603T073000
DTEND;TZID=America/Toronto:20190603T213000
DTSTAMP:20260422T101338
CREATED:20190524T022829Z
LAST-MODIFIED:20190605T003615Z
UID:531-1559547000-1559597400@standrews560.com
SUMMARY:Committee of General Purposes
DESCRIPTION:All Officers and Past Masters should attend; members are cordially welcome. \nNewly elected officers and aspiring candidates to occupy the chairs this year are required to stay after the meeting.
URL:https://standrews560.com/event/comittee-of-general-purposes/
LOCATION:Ottawa Masonic Centre\, 2140 Walkley Road\, Ottawa\, ON\, K1G 3V3\, Canada
CATEGORIES:Lodge,Private
END:VEVENT
BEGIN:VEVENT
DTSTART;TZID=America/Toronto:20190429T193000
DTEND;TZID=America/Toronto:20190429T213000
DTSTAMP:20260422T101338
CREATED:20190421T162643Z
LAST-MODIFIED:20190605T003606Z
UID:514-1556566200-1556573400@standrews560.com
SUMMARY:Committee of General Purposes
DESCRIPTION:All Officers and Past Masters should attend; members are cordially welcome.
URL:https://standrews560.com/event/comittee-of-general-purposes-20190506/
LOCATION:Ottawa Masonic Centre\, 2140 Walkley Road\, Ottawa\, ON\, K1G 3V3\, Canada
CATEGORIES:Lodge,Private
END:VEVENT
BEGIN:VEVENT
DTSTART;TZID=America/Toronto:20190427T180000
DTEND;TZID=America/Toronto:20190427T220000
DTSTAMP:20260422T101338
CREATED:20190421T160356Z
LAST-MODIFIED:20190421T160551Z
UID:506-1556388000-1556402400@standrews560.com
SUMMARY:2019 Table Lodge The Water Buffalo’s
DESCRIPTION:This is a fun evening with all proceeds going to purchase needed equipment for the Ottawa Regional Cancer Centre. Your support is needed and appreciated.\n\nThe Water Buffalo’s are made of a number of Brethren from Ottawa District 1 & 2. as well as several (if not more) volunteers.\n\nFor Tickets contact Devon Fermoyle at d.fermoyle@rogers.com or by phone at 613-746-2407
URL:https://standrews560.com/event/2019-table-lodge-the-water-buffalos/
LOCATION:Westboro Masonic Hall\, 430 Churchill Avenue N.\, Ottawa\, ON\, K1Z 5C9\, Canada
CATEGORIES:Private,Valley
END:VEVENT
BEGIN:VEVENT
DTSTART;TZID=America/Toronto:20190420T180000
DTEND;TZID=America/Toronto:20190420T220000
DTSTAMP:20260422T101338
CREATED:20190303T181829Z
LAST-MODIFIED:20190421T154912Z
UID:114-1555783200-1555797600@standrews560.com
SUMMARY:Tribute to R.W. Bro. Ron Campbell
DESCRIPTION:St. Andrew’s Lodge is hosting a Night of Tribute to R.W. Bro. Ron Campbell on April 20 at the Masonic Centre at 2140 Walkley Road. \nR.W. Bro. Campbell has been instrumental in writing\, editing and administering our Ontario Constitution as well as his work with the Masonic Foundations for decades and it is time we showed him how proud we are of his accomplishments. \nSocial is at 6:00 and Dinner at 7:00. \n 
URL:https://standrews560.com/event/tribute-bro-ron-campbell/
LOCATION:Ottawa Masonic Centre\, 2140 Walkley Road\, Ottawa\, ON\, K1G 3V3\, Canada
CATEGORIES:Lodge,Private
END:VEVENT
BEGIN:VEVENT
DTSTART;TZID=America/Toronto:20190401T193000
DTEND;TZID=America/Toronto:20190401T213000
DTSTAMP:20260422T101338
CREATED:20190331T185909Z
LAST-MODIFIED:20190605T003628Z
UID:390-1554147000-1554154200@standrews560.com
SUMMARY:Committee of General Purposes
DESCRIPTION:All Officers and Past Masters should attend; members are cordially welcome.
URL:https://standrews560.com/event/comittee-of-general-purposes-20190401/
LOCATION:Ottawa Masonic Centre\, 2140 Walkley Road\, Ottawa\, ON\, K1G 3V3\, Canada
CATEGORIES:Lodge,Private
END:VEVENT
END:VCALENDAR