BEGIN:VCALENDAR
VERSION:2.0
PRODID:-//St. Andrew&#039;s Lodge #560 - ECPv6.15.20//NONSGML v1.0//EN
CALSCALE:GREGORIAN
METHOD:PUBLISH
X-WR-CALNAME:St. Andrew&#039;s Lodge #560
X-ORIGINAL-URL:https://standrews560.com
X-WR-CALDESC:Events for St. Andrew&#039;s Lodge #560
REFRESH-INTERVAL;VALUE=DURATION:PT1H
X-Robots-Tag:noindex
X-PUBLISHED-TTL:PT1H
BEGIN:VTIMEZONE
TZID:America/Toronto
BEGIN:DAYLIGHT
TZOFFSETFROM:-0500
TZOFFSETTO:-0400
TZNAME:EDT
DTSTART:20180311T070000
END:DAYLIGHT
BEGIN:STANDARD
TZOFFSETFROM:-0400
TZOFFSETTO:-0500
TZNAME:EST
DTSTART:20181104T060000
END:STANDARD
BEGIN:DAYLIGHT
TZOFFSETFROM:-0500
TZOFFSETTO:-0400
TZNAME:EDT
DTSTART:20190310T070000
END:DAYLIGHT
BEGIN:STANDARD
TZOFFSETFROM:-0400
TZOFFSETTO:-0500
TZNAME:EST
DTSTART:20191103T060000
END:STANDARD
BEGIN:DAYLIGHT
TZOFFSETFROM:-0500
TZOFFSETTO:-0400
TZNAME:EDT
DTSTART:20200308T070000
END:DAYLIGHT
BEGIN:STANDARD
TZOFFSETFROM:-0400
TZOFFSETTO:-0500
TZNAME:EST
DTSTART:20201101T060000
END:STANDARD
END:VTIMEZONE
BEGIN:VEVENT
DTSTART;TZID=America/Toronto:20190401T193000
DTEND;TZID=America/Toronto:20190401T213000
DTSTAMP:20260422T130438
CREATED:20190331T185909Z
LAST-MODIFIED:20190605T003628Z
UID:390-1554147000-1554154200@standrews560.com
SUMMARY:Committee of General Purposes
DESCRIPTION:All Officers and Past Masters should attend; members are cordially welcome.
URL:https://standrews560.com/event/comittee-of-general-purposes-20190401/
LOCATION:Ottawa Masonic Centre\, 2140 Walkley Road\, Ottawa\, ON\, K1G 3V3\, Canada
CATEGORIES:Lodge,Private
END:VEVENT
END:VCALENDAR