BEGIN:VCALENDAR
VERSION:2.0
PRODID:-//St. Andrew&#039;s Lodge #560 - ECPv6.15.20//NONSGML v1.0//EN
CALSCALE:GREGORIAN
METHOD:PUBLISH
X-ORIGINAL-URL:https://standrews560.com
X-WR-CALDESC:Events for St. Andrew&#039;s Lodge #560
REFRESH-INTERVAL;VALUE=DURATION:PT1H
X-Robots-Tag:noindex
X-PUBLISHED-TTL:PT1H
BEGIN:VTIMEZONE
TZID:America/Toronto
BEGIN:DAYLIGHT
TZOFFSETFROM:-0500
TZOFFSETTO:-0400
TZNAME:EDT
DTSTART:20180311T070000
END:DAYLIGHT
BEGIN:STANDARD
TZOFFSETFROM:-0400
TZOFFSETTO:-0500
TZNAME:EST
DTSTART:20181104T060000
END:STANDARD
BEGIN:DAYLIGHT
TZOFFSETFROM:-0500
TZOFFSETTO:-0400
TZNAME:EDT
DTSTART:20190310T070000
END:DAYLIGHT
BEGIN:STANDARD
TZOFFSETFROM:-0400
TZOFFSETTO:-0500
TZNAME:EST
DTSTART:20191103T060000
END:STANDARD
BEGIN:DAYLIGHT
TZOFFSETFROM:-0500
TZOFFSETTO:-0400
TZNAME:EDT
DTSTART:20200308T070000
END:DAYLIGHT
BEGIN:STANDARD
TZOFFSETFROM:-0400
TZOFFSETTO:-0500
TZNAME:EST
DTSTART:20201101T060000
END:STANDARD
BEGIN:DAYLIGHT
TZOFFSETFROM:-0500
TZOFFSETTO:-0400
TZNAME:EDT
DTSTART:20210314T070000
END:DAYLIGHT
BEGIN:STANDARD
TZOFFSETFROM:-0400
TZOFFSETTO:-0500
TZNAME:EST
DTSTART:20211107T060000
END:STANDARD
BEGIN:DAYLIGHT
TZOFFSETFROM:-0500
TZOFFSETTO:-0400
TZNAME:EDT
DTSTART:20220313T070000
END:DAYLIGHT
BEGIN:STANDARD
TZOFFSETFROM:-0400
TZOFFSETTO:-0500
TZNAME:EST
DTSTART:20221106T060000
END:STANDARD
BEGIN:DAYLIGHT
TZOFFSETFROM:-0500
TZOFFSETTO:-0400
TZNAME:EDT
DTSTART:20230312T070000
END:DAYLIGHT
BEGIN:STANDARD
TZOFFSETFROM:-0400
TZOFFSETTO:-0500
TZNAME:EST
DTSTART:20231105T060000
END:STANDARD
BEGIN:DAYLIGHT
TZOFFSETFROM:-0500
TZOFFSETTO:-0400
TZNAME:EDT
DTSTART:20240310T070000
END:DAYLIGHT
BEGIN:STANDARD
TZOFFSETFROM:-0400
TZOFFSETTO:-0500
TZNAME:EST
DTSTART:20241103T060000
END:STANDARD
BEGIN:DAYLIGHT
TZOFFSETFROM:-0500
TZOFFSETTO:-0400
TZNAME:EDT
DTSTART:20250309T070000
END:DAYLIGHT
BEGIN:STANDARD
TZOFFSETFROM:-0400
TZOFFSETTO:-0500
TZNAME:EST
DTSTART:20251102T060000
END:STANDARD
END:VTIMEZONE
BEGIN:VEVENT
DTSTART;TZID=America/Toronto:20240905T180000
DTEND;TZID=America/Toronto:20240905T213000
DTSTAMP:20260422T133127
CREATED:20240506T124016Z
LAST-MODIFIED:20240903T031932Z
UID:1913-1725559200-1725571800@standrews560.com
SUMMARY:September Regular Meeting: Premier Meeting
DESCRIPTION:Join us for an evening of fellowship and enlightenment at our upcoming event! \n Festive Board: Starting at 6:00pm\, indulge in a delicious themed meal featuring Mexican cuisine. During dinner\, Brother M. Bayliss will deliver an inspiring talk on The spirit of benevolence in Freemasonry. Plus\, there will be an opportunity for members to share brief commercials. \n Work of the Night: At 7:30pm\, the first part of our lodge’s work will commence. This includes: \n\nOpening of the lodge and essential business\nInvestiture of officers\nA report on Grand Lodge Communication\nThat is my brother\, introduction\nMasonic Minutes\, presented by Bro. W. Levere\nBits of Wisdom\, focusing on the Lodge and officer progression\, presented by W. Bro. J. Federico\nRemembering W. Bro. R. Lamont\nA special tribute in memory of V.W. Bro. G. McGill\, a founder of our Lodge and WM from 1924-25\, presented by R.W. Bro. R. Campbell\nClosing the lodge\nThe unveiling of regalia for exhibition in the Masonic Hall.\n\nDon’t miss out on this enriching experience! Mark your calendars and join us for an evening of camaraderie and Masonic enlightenment. \nMembers of the Lodge are kindly requested to contribute $10.00 towards the cost of the meal. While donations by guests are not expected\, any contributions they wish to make would be greatly appreciated.
URL:https://standrews560.com/event/2024-september-regular-meeting/
LOCATION:Ottawa Masonic Centre\, 2140 Walkley Road\, Ottawa\, ON\, K1G 3V3\, Canada
CATEGORIES:Lodge,Private,Tyled
ATTACH;FMTTYPE=image/png:https://standrews560.com/wp-content/uploads/2024/05/20240905.png
END:VEVENT
BEGIN:VEVENT
DTSTART;TZID=America/Toronto:20240606T180000
DTEND;TZID=America/Toronto:20240606T220000
DTSTAMP:20260422T133127
CREATED:20240505T212246Z
LAST-MODIFIED:20240601T031148Z
UID:1889-1717696800-1717711200@standrews560.com
SUMMARY:June Regular Meeting: Installation Night
DESCRIPTION:We are delighted to invite the members of our Lodge and brothers from all jurisdictions to our June regular meeting on Thursday\, June 6th\, 2024\, at St. Andrew’s Lodge. \nThis meeting is of immense significance as it marks the installation of our newly elected Worshipful Master\, Bro. J. Federico\, and the investiture of his officers. Therefore\, it is one of the most important events of the year for our Lodge\, and we hope you can join us. \nOur Festive Board will begin at 6:00pm\, followed by the Installation at 7:00pm. Additionally\, coffee and desserts will be served after the ceremony at around 9:30pm. \nPlease note that registration is not required for the meeting\, but an RSVP for the Festive Board is expected. To register for this event\, please click on the “Going” button in the RSVP area found below or send an email to rsvp@standrews560.com by May 30th at 12:00 pm. \nMoreover\, we have a limited number of spots available\, and you will receive an email confirmation if you have secured a place. \n  \nRegistration for the Festive Board is Closed\n 
URL:https://standrews560.com/event/2024-june-regular-meeting/
LOCATION:Ottawa Masonic Centre\, 2140 Walkley Road\, Ottawa\, ON\, K1G 3V3\, Canada
CATEGORIES:Lodge,Private,Tyled
ATTACH;FMTTYPE=image/jpeg:https://standrews560.com/wp-content/uploads/2024/05/sal-20240606-1.jpeg
END:VEVENT
BEGIN:VEVENT
DTSTART;TZID=America/Toronto:20231207T190000
DTEND;TZID=America/Toronto:20231207T210000
DTSTAMP:20260422T133127
CREATED:20231107T042523Z
LAST-MODIFIED:20231107T045038Z
UID:1839-1701975600-1701982800@standrews560.com
SUMMARY:December Regular Meeting: DD Official Visit
DESCRIPTION:St. Andrew’s Lodge is pleased to invite members and brethren from all sister Lodges in Ottawa on Thursday\, December 7th to our December Regular Meeting\, in which we will be receiving R.W. Bro. Kosta Hatzis\, DDGM for Ottawa District 1 in his Official Visit. \nAs for the work of the night this is also an especial event as we will be delivering the 5th edition of our now traditional Candlelight Reading of the Old Charges. Which according to our Constitution\, Part VI\, second paragraph\, are to be read to all newly made masons. \nThis is a quite long piece and we only do it once a year for all our new members. But we also do it in a way that it is a unique experience with the intention that all new masons in our two Districts can enjoy it. \nIf you have new masons in your Lodge or just anyone who has not experienced this event\, you are more than welcome to join us in Lodge at 7:00pm. \nPlease note that anyone will be welcome to join us in Lodge without notice\, but we have a limited number of seats available for the festive board. \nYou don’t need to be registered for the meeting\, but RSVP for Festive Board is required\, please fill the registration form for this event (click Register below image)\, or send an email to rsvp@standrews560.com by November 30 at 12:00 pm \nAs we have a limite number of spots. You will receive an emial with the confirmation if you made the cut. \n \n  \nRegistration for the Festive Board Only will open soon\n[rtec-registration-form event=1839]
URL:https://standrews560.com/event/202312-regular-meeting-dd-official-visit/
LOCATION:Ottawa Masonic Centre\, 2140 Walkley Road\, Ottawa\, ON\, K1G 3V3\, Canada
CATEGORIES:District 1,Lodge,Private,Tyled
END:VEVENT
BEGIN:VEVENT
DTSTART;TZID=America/Toronto:20230601T180000
DTEND;TZID=America/Toronto:20230601T223000
DTSTAMP:20260422T133127
CREATED:20230226T173212Z
LAST-MODIFIED:20240505T213330Z
UID:1694-1685642400-1685658600@standrews560.com
SUMMARY:June Regular Meeting: Installation Night
DESCRIPTION:We are delighted to invite the members of our Lodge and brothers from all jurisdictions to our June regular meeting on Thursday\, June 1st\, 2023\, at St. Andrew’s Lodge. \nThis meeting is of immense significance as it marks the installation of our newly elected Worshipful Master\, Bro. S. Young\, and the investiture of his officers. Therefore\, it is one of the most important events of the year for our Lodge\, and we hope you can join us. \nOur Festive Board will begin at 6:00pm\, followed by the Installation at 7:00pm. Additionally\, coffee and desserts will be served after the ceremony at around 9:00pm. \nPlease note that registration is not required for the meeting\, but an RSVP for the Festive Board is mandatory. To register for this event\, please click on the RSVP button below the image or send an email to rsvp@standrews560.com by May 29th at 12:00 pm. \nMoreover\, we have a limited number of spots available\, and you will receive an email confirmation if you have secured a place. \n  \n \n  \nRegistration for the Festive Board is now Open\n[rtec-registration-form event=1694]
URL:https://standrews560.com/event/2023-june-regular-meeting/
LOCATION:Ottawa Masonic Centre\, 2140 Walkley Road\, Ottawa\, ON\, K1G 3V3\, Canada
CATEGORIES:Lodge,Private,Tyled
END:VEVENT
BEGIN:VEVENT
DTSTART;TZID=America/Toronto:20230504T193000
DTEND;TZID=America/Toronto:20230504T223000
DTSTAMP:20260422T133127
CREATED:20230226T172308Z
LAST-MODIFIED:20230226T181149Z
UID:1690-1683228600-1683239400@standrews560.com
SUMMARY:May Regular Meeting: Election Night
DESCRIPTION:St. Andrew’s Lodge is once again pleased to invite members of our Lodge and and brothers from all our jurisdiction to our May regular meeting on Thursday\, May 4th\, 2023. \nAnother important night for St. Andrerw’s Lodge this Thursday as we will be electing the officers who wioll be leading our Lodge next year. \nWe Tyle at 7:30pm and light festive board with sandwishes\, desserts and coffee/tea will follow. \nYou don’t need to be registered for the meeting\, but RSVP for Festive Board is required\, please fill the registration form for this event (click Register below image)\, or send an email to juniorwarden@standrews560.com by May 1st at 12:00 pm. \nWe have a limited number of spots. You will receive an emial with the confirmation if you made the cut. \n\nRegistration for the Festive Board Only is now Open\n[rtec-registration-form event=1690]
URL:https://standrews560.com/event/2023-may-regular-meeting/
LOCATION:Ottawa Masonic Centre\, 2140 Walkley Road\, Ottawa\, ON\, K1G 3V3\, Canada
CATEGORIES:Lodge,Private,Tyled
END:VEVENT
BEGIN:VEVENT
DTSTART;TZID=America/Toronto:20230406T193000
DTEND;TZID=America/Toronto:20230406T223000
DTSTAMP:20260422T133127
CREATED:20230226T162143Z
LAST-MODIFIED:20230226T181142Z
UID:1680-1680809400-1680820200@standrews560.com
SUMMARY:April Regular Meeting: Second Degree
DESCRIPTION:St. Andrew’s Lodge is once again pleased to invite members of our Lodge and and brothers from all our jurisdiction to our April regular meeting on Thursday\, April 6th\, 2023. \nAnother important night for St. Andrerw’s Lodge approaches as we are advancing one of our newest members to his second regular step. \nWe Tyle at 7:30pm and light festive board with sandwishes\, desserts and coffee/tea will follow. \nYou don’t need to be registered for the meeting\, but RSVP for Festive Board is required\, please fill the registration form for this event (click Register below image)\, or send an email to juniorwarden@standrews560.com by April 3 at 12:00 pm. \nWe have a limite number of spots. You will receive an emial with the confirmation if you made the cut. \n \nRegistration for the Festive Board Only is now Open\n[rtec-registration-form event=1680]
URL:https://standrews560.com/event/2023-april-regular-meeting/
LOCATION:Ottawa Masonic Centre\, 2140 Walkley Road\, Ottawa\, ON\, K1G 3V3\, Canada
CATEGORIES:Lodge,Private,Tyled
END:VEVENT
BEGIN:VEVENT
DTSTART;TZID=America/Toronto:20230302T193000
DTEND;TZID=America/Toronto:20230302T223000
DTSTAMP:20260422T133127
CREATED:20230226T141559Z
LAST-MODIFIED:20230226T181140Z
UID:1676-1677785400-1677796200@standrews560.com
SUMMARY:March Regular Meeting: Double First Degree
DESCRIPTION:St. Andrew’s Lodge is pleased to invite members of our Lodge and and brothers from all our jurisdiction to our March regular meeting on Thursday\, March 2nd\, 2023. \nAnother big night for St. Andrerw’s Lodge approaches as we are receiving two new members in our ranks. \nWe Tyle at 7:30pm and light festive board with Chilli Bean Soup\, desserts and coffee/tea will follow. \nYou don’t need to be registered for the meeting\, but RSVP for Festive Board is required\, please fill the registration form for this event (click Register below image)\, or send an email to juniorwarden@standrews560.com by February 28 at 12:00 pm. \nWe have a limite number of spots. You will receive an emial with the confirmation if you made the cut. \n \nRegistration for the Festive Board Only is now Open\n[rtec-registration-form event=1676]
URL:https://standrews560.com/event/2023-march-regular-meeting/
LOCATION:Ottawa Masonic Centre\, 2140 Walkley Road\, Ottawa\, ON\, K1G 3V3\, Canada
CATEGORIES:Lodge,Private,Tyled
END:VEVENT
BEGIN:VEVENT
DTSTART;TZID=America/Toronto:20221201T180000
DTEND;TZID=America/Toronto:20221201T180000
DTSTAMP:20260422T133127
CREATED:20221116T142657Z
LAST-MODIFIED:20221127T193108Z
UID:1647-1669917600-1669917600@standrews560.com
SUMMARY:Official Visit Night
DESCRIPTION:St. Andrew’s Lodge is pleased to invite you to our Official Visit Night on Thursday\, December 1st. With the visit of R.W. Bro. James G. Bowman\, District Deputy Grand Master for Ottawa District 1. \nWe have a 2nd degree in the agenda\, and a fantastic Early Festive Board with a Roast Beef Buffet on the Menu. \nWe Tyle at 7:00pm\, Festive board is at 6:00pm. \nYou don’t need to be registered for the meeting\, but RSVP for Festive Board is required\, please fill the registration form for this event (click Register below image)\, or send an email to sw@standrews560.com by November 24 at 7:00 pm \nWe have a limite number of spots. You will receive an emial with the confirmation if you made the cut. \n \nRegistration for the Festive Board Only is now Open\n[rtec-registration-form event=1647]
URL:https://standrews560.com/event/official-visit-night-2022/
LOCATION:Ottawa Masonic Centre\, 2140 Walkley Road\, Ottawa\, ON\, K1G 3V3\, Canada
CATEGORIES:Lodge,Private,Tyled
END:VEVENT
BEGIN:VEVENT
DTSTART;TZID=America/Toronto:20200314T130000
DTEND;TZID=America/Toronto:20200314T220000
DTSTAMP:20260422T133127
CREATED:20200130T032643Z
LAST-MODIFIED:20200314T221344Z
UID:790-1584190800-1584223200@standrews560.com
SUMMARY:(Cancelled) 4 Lodge Centennial Celebration
DESCRIPTION:A 100 years celebration is a “once in a lifetime” event for any Masonic Lodge. But 4 Lodges celebrating together may even be seen as historic in the Grand Lodge of Canada in the Province of Ontario. \nSidney Albert Luke #558\, St. Andrew’s #560\, Acacia #561 and Ashlar #564 invite you to join us in celebrating 100 years of Freemasonry in our Lodges. \nWith the distinguished presence as a Guest of honour of M.W. Bro. David J. Cameron\, Grand Master of the Grand Lodge of A. F. & A. M. of Canada in the Province of Ontario. \nSilver to Gold Celebration \nSaturday March 14\, 2020\, 1:00PM\nTudor Hall\, 3750 N Bowesville Rd\, Ottawa\, ON \nGrand Master will also allow the 1 pm Lodge meeting to be white tie and tails for GL Officers and they would wear the same for the evening festivities. \nCentennial Banquet and Dance\nSaturday\, March 14\, 2020\, Tudor Hall\nSocial – 6:30 PM\nDinner – 7:00 PM \nTickets: $75 per person \nFor more information please email:\n4lodgecentennial@gmail.com
URL:https://standrews560.com/event/4-lodge-centennial-celebration/
LOCATION:Tudor Hall\, 3750 N Bowesville Road\, Ottawa\, Ontario\, K1V 1B8\, Canada
CATEGORIES:District 1,Grand Lodge,Lodge,Private,Tyled
END:VEVENT
BEGIN:VEVENT
DTSTART;TZID=America/Toronto:20200206T190000
DTEND;TZID=America/Toronto:20200206T220000
DTSTAMP:20260422T133127
CREATED:20200114T045925Z
LAST-MODIFIED:20200114T054656Z
UID:749-1581015600-1581026400@standrews560.com
SUMMARY:Burns Night 2020
DESCRIPTION:A Burns night is traditionally\, a celebration of the life and work of the poet Robert Burns (25 January 1759 – 21 July 1796)\, the author of many Scots poems. \nFor Freemasons it is an event of Scottish history\, folklore and literature. \nFor St. Andrew’s Lodge 560 in this 2020\, as part of its line up for the 100 years celebration\, a special ocasion to enjoy a night full of tradition and history\, amazing food and lots of fun. \nCome with us and celebrate Robbie Burns\, the man\, the poet\, the Scot\, the Freemason. \nLodge tyles at 7:00pm\, dinner to follow.\nLadies and guests are welcome \nTicket Cost: $30\nRequest your tickets here
URL:https://standrews560.com/event/burns-night-2020/
LOCATION:Ottawa Masonic Centre\, 2140 Walkley Road\, Ottawa\, ON\, K1G 3V3\, Canada
CATEGORIES:Lodge,Private,Tyled
END:VEVENT
BEGIN:VEVENT
DTSTART;TZID=America/Toronto:20191205T190000
DTEND;TZID=America/Toronto:20191205T210000
DTSTAMP:20260422T133127
CREATED:20191113T030634Z
LAST-MODIFIED:20191113T030818Z
UID:692-1575572400-1575579600@standrews560.com
SUMMARY:Third Candle Light Reading of the Old Charges
DESCRIPTION:Our District Deputy Night is also a very special Lodge at our Regular meeting. St Andrew’s is proud to host the third annual Candle Light Reading of the Old Charges. \nThis is a must-see and we are looking very forward to seeing many of the District’s newest Masons in attendance. \nWe encourage everyone to show your support and spread the word to the other Brethren in the District. \nTyle at 7:00 pm \nLight refreshments after the meeting.
URL:https://standrews560.com/event/third-candle-light-reading-of-the-old-charges/
LOCATION:Ottawa Masonic Centre\, 2140 Walkley Road\, Ottawa\, ON\, K1G 3V3\, Canada
CATEGORIES:District 1,Lodge,Tyled
END:VEVENT
BEGIN:VEVENT
DTSTART;TZID=America/Toronto:20190718T080000
DTEND;TZID=America/Toronto:20190718T170000
DTSTAMP:20260422T133127
CREATED:20190524T031200Z
LAST-MODIFIED:20190524T031200Z
UID:548-1563436800-1563469200@standrews560.com
SUMMARY:Annual Communication
DESCRIPTION:THURSDAY\, JULY 18th Grand Lodge will reassemble at 8:45 a.m. in the Canadian Room\, Fairmont Royal York Hotel. The installation and investiture of Grand Lodge officers and the newly-elected D.D.G.M.s will take place on Thursday in the Canadian Room\, at such time as the Grand Master shall direct. It is essential that each one be present and that brings his regalia with him. Every member of Grand Lodge is expected to be present sharp on time.
URL:https://standrews560.com/event/annual-communication-4/
LOCATION:Fairmont Royal York Hotel\, 100 Front St W\, Toronto\, ON\, M5J1E3\, Canada
CATEGORIES:Grand Lodge,Tyled
END:VEVENT
BEGIN:VEVENT
DTSTART;TZID=America/Toronto:20190717T080000
DTEND;TZID=America/Toronto:20190717T170000
DTSTAMP:20260422T133127
CREATED:20190524T031002Z
LAST-MODIFIED:20190524T031002Z
UID:546-1563350400-1563382800@standrews560.com
SUMMARY:Annual Communication
DESCRIPTION:WEDNESDAY\, JULY 17th Grand Lodge will assemble in the Canadian Room\, Fairmont Royal York Hotel\, at 8:45 a.m.\, M.W. Bro. Paul E. Todd\, Grand Master presiding. Brethren are earnestly requested to bring their own aprons and to be in their seats in Grand Lodge before 8:30 a.m. on Wednesday. \nDistinguished visitors\, representing other Grand Jurisdictions\, will be received and welcomed. An Address of Welcome will be tendered and Grand Lodge will then proceed with the business until 11:30 a.m. The brethren are asked to reassemble after lunch in the Ballroom\, F.R.Y.H. at 1:30 p.m. for an Interactive Presentation by Bro. Samuel Friedman and at 2:30 p.m. for a Q & A with R.W. Bro. David J. Cameron\, D.G.M.
URL:https://standrews560.com/event/annual-communication-3/
LOCATION:Fairmont Royal York Hotel\, 100 Front St W\, Toronto\, ON\, M5J1E3\, Canada
CATEGORIES:Grand Lodge,Tyled
END:VEVENT
BEGIN:VEVENT
DTSTART;TZID=America/Toronto:20190622T063000
DTEND;TZID=America/Toronto:20190622T170000
DTSTAMP:20260422T133127
CREATED:20190507T025045Z
LAST-MODIFIED:20190507T025045Z
UID:516-1561185000-1561222800@standrews560.com
SUMMARY:Owl’s Head Mountain
DESCRIPTION:A visit filled with tradition. \nGolden Rule Lodge No. 5\, GRQ have held this outdoor communication since 1857. Masons from both sides of the border meet in a spirit of fellowship and community to see a worthy brother being raised to the third degree at the top of Owl’s Head Mountain. \nPart of this old tradition is a unique process which requires the candidate to hike/climb to the summit\, while others can reach the top by a chair lift. You can also take the 3 hr hike to the top if you prefer. \nCOST: $50/person\n\nINCLUDES: Bus – Breakfast – Lunch \nNOT INCLUDED:\nChair lift cost $15 – (recommended)\nBBQ lunch at location $15 (optional) \nBus pick up location:\n2140 Walkley Road\nOttawa Masonic Center \n6:30 am SHARP \nRSVP – WAYNE KEECH at keech@rogers.com
URL:https://standrews560.com/event/owls-head-mountain/
LOCATION:Ottawa Masonic Centre\, 2140 Walkley Road\, Ottawa\, ON\, K1G 3V3\, Canada
CATEGORIES:Tyled,Valley
END:VEVENT
BEGIN:VEVENT
DTSTART;TZID=America/Toronto:20190606T190000
DTEND;TZID=America/Toronto:20190606T220000
DTSTAMP:20260422T133127
CREATED:20190524T023814Z
LAST-MODIFIED:20190524T024225Z
UID:533-1559847600-1559858400@standrews560.com
SUMMARY:Regular Meeting
DESCRIPTION:A very special night to conduct the installation of the newly elected Worshipful Master and the Investiture of the other Officers for the year 2019-2020\, under the direction of the Installing Master\, R.W. Bro. Angus Gillis and his team of Past Masters and members of the Lodge.
URL:https://standrews560.com/event/regular-meeting/
LOCATION:Ottawa Masonic Centre\, 2140 Walkley Road\, Ottawa\, ON\, K1G 3V3\, Canada
CATEGORIES:Lodge,Tyled
END:VEVENT
BEGIN:VEVENT
DTSTART;TZID=America/Toronto:20190516T190000
DTEND;TZID=America/Toronto:20190516T220000
DTSTAMP:20260422T133127
CREATED:20190424T122139Z
LAST-MODIFIED:20190424T122139Z
UID:524-1558033200-1558044000@standrews560.com
SUMMARY:Emergent meeting
DESCRIPTION:Our Emergent Meeting this month will be a fraternal visit to Doric Lodge as they install their Officers for 2019/20. \nLet’s make our last meeting memorable and well attended!
URL:https://standrews560.com/event/emergent-meeting/
LOCATION:Ottawa Masonic Centre\, 2140 Walkley Road\, Ottawa\, ON\, K1G 3V3\, Canada
CATEGORIES:Lodge,Tyled
END:VEVENT
BEGIN:VEVENT
DTSTART;TZID=America/Toronto:20190502T193000
DTEND;TZID=America/Toronto:20190502T223000
DTSTAMP:20260422T133127
CREATED:20190421T161935Z
LAST-MODIFIED:20190425T122454Z
UID:511-1556825400-1556836200@standrews560.com
SUMMARY:Regular Meeting
DESCRIPTION:This is a very important evening in the life of our Lodge as we will be conducting elections. \nAll members of St. Andrew’s Lodge should attend this meeting.
URL:https://standrews560.com/event/regular-meeting-20190503/
LOCATION:Ottawa Masonic Centre\, 2140 Walkley Road\, Ottawa\, ON\, K1G 3V3\, Canada
CATEGORIES:Lodge,Tyled
END:VEVENT
BEGIN:VEVENT
DTSTART;TZID=America/Toronto:20190423T193000
DTEND;TZID=America/Toronto:20190423T223000
DTSTAMP:20260422T133127
CREATED:20190331T193722Z
LAST-MODIFIED:20190421T154619Z
UID:399-1556047800-1556058600@standrews560.com
SUMMARY:Emergent meeting
DESCRIPTION:This day\, member of St. Andrew’s Lodge will be traveling to Civil Service Lodge at Ottawa Masonic Hall. They will be conducting the 3rd Degree for our very own Bro. Donald McFarling.  \n \nLodge Tyles at 7:30 pm. Festive Board to follow.\n\nThis will be an important night for one of our newest Brothers and our Lodge. Please join your fellow brethren of St Andrew’s as we travel to support Bro. McFarling in his Masonic journey.
URL:https://standrews560.com/event/emergent-meeting-20190423/
LOCATION:Ottawa Masonic Centre\, 2140 Walkley Road\, Ottawa\, ON\, K1G 3V3\, Canada
CATEGORIES:Lodge,Tyled
END:VEVENT
BEGIN:VEVENT
DTSTART;TZID=America/Toronto:20190404T193000
DTEND;TZID=America/Toronto:20190404T213000
DTSTAMP:20260422T133127
CREATED:20190331T185644Z
LAST-MODIFIED:20190421T155308Z
UID:388-1554406200-1554413400@standrews560.com
SUMMARY:St. Andrew’s - Renfrew Bifulgated Gavel
DESCRIPTION:A number of years ago several members of St.Andrew’s were also members of Renfrew\, having lived in those areas before coming to Ottawa. They encouraged both of the Lodges to begin an exchange visit each year and at each\, they exchanged a gavel that separates\, but together they make a whole. Each of us is never whole until we are brought together to renew and strengthen our friendship. \nOver the years those original members have passed on but the practice is continued\, in their memory\, but now to make new friends whom we enjoy meeting together. Also\, it should be noted that in 1979 when we were separated from each other when the Ottawa District was divided into Ottawa 1 and Ottawa 2. It was decided that we needed to maintain the old Masonic tie between us. \nA light meal will be served after the meeting.
URL:https://standrews560.com/event/st-andrews-renfrew-bifulgated-gavel/
LOCATION:Ottawa Masonic Centre\, 2140 Walkley Road\, Ottawa\, ON\, K1G 3V3\, Canada
CATEGORIES:Lodge,Tyled
END:VEVENT
BEGIN:VEVENT
DTSTART;TZID=America/Toronto:20190321T193000
DTEND;TZID=America/Toronto:20190321T223000
DTSTAMP:20260422T133127
CREATED:20190303T192349Z
LAST-MODIFIED:20240124T184930Z
UID:136-1553196600-1553207400@standrews560.com
SUMMARY:Emergent Meeting
DESCRIPTION:We will be holding an Emergent meeting on March 21 to Raise  Bro. J. Federico to the Sublime Degree of a Master Mason. This entire degree will be done by R.W. Bro. J.M. Forster. \nMembers of St. Andrew’s Lodge are encouraged to attend. Master Masons are welcome to join us to show their support for our Candidate as well as to R.W. Bro. Forster.
URL:https://standrews560.com/event/meeting-20190321/
LOCATION:Ottawa Masonic Centre\, 2140 Walkley Road\, Ottawa\, ON\, K1G 3V3\, Canada
CATEGORIES:Lodge,Tyled
END:VEVENT
BEGIN:VEVENT
DTSTART;TZID=America/Toronto:20190314T190000
DTEND;TZID=America/Toronto:20190314T220000
DTSTAMP:20260422T133127
CREATED:20190303T192913Z
LAST-MODIFIED:20190421T155022Z
UID:140-1552590000-1552600800@standrews560.com
SUMMARY:Special Lodge at the Perley Rideau
DESCRIPTION:There will be a special Lodge at the Perley Rideau on March 14 which will tyle at 7:00pm. All members of St. Andrew’s Lodge are invited to join our W.M.
URL:https://standrews560.com/event/140/
LOCATION:The Perley and Rideau Veterans’ Health Centre\, 1750 Russell Road\, Ottawa\, ON\, K1G 5Z6\, Canada
CATEGORIES:Tyled,Valley
END:VEVENT
BEGIN:VEVENT
DTSTART;TZID=America/Toronto:20190307T193000
DTEND;TZID=America/Toronto:20190307T223000
DTSTAMP:20260422T133127
CREATED:20190303T183455Z
LAST-MODIFIED:20240327T022357Z
UID:132-1551987000-1551997800@standrews560.com
SUMMARY:Candle Light Reading of the Old Charges
DESCRIPTION:We will be conducting a very special Lodge at our Regular meeting. St Andrew’s is proud to host the second annual Candle Light Reading of the Old Charges. \nThis is a must see and I am looking very forward to seeing many of the District’s newest Masons in attendance. I encourage everyone to show your support and spread the word to the other Brethren in the District.
URL:https://standrews560.com/event/old-charges-2019/
LOCATION:Ottawa Masonic Centre\, 2140 Walkley Road\, Ottawa\, ON\, K1G 3V3\, Canada
CATEGORIES:Lodge,Tyled
ATTACH;FMTTYPE=image/jpeg:https://standrews560.com/wp-content/uploads/2019/03/800px-MasonicOldChargesConstitution-1.jpg
END:VEVENT
END:VCALENDAR